BEGIN:VCALENDAR
VERSION:2.0
PRODID:www.stappen-shoppen.nl
BEGIN:VEVENT
UID:stappen-shoppen.nl/entity/63ca9e2fe4310dba2905394f
DTSTAMP:20260421T135805Z
ORGANIZER;CN=:MAILTO:
DTSTART:20260214T131100Z
DTEND:20260214T160000Z
URL:https://m.hetsmalstestukjenederland.nl/ical/63ca9e2fe4310dba2905394f
SUMMARY:Grote optocht Maria-hoop
DESCRIPTION:KV 't Winterkoningske
END:VEVENT
END:VCALENDAR

