BEGIN:VCALENDAR
VERSION:2.0
PRODID:www.stappen-shoppen.nl
BEGIN:VEVENT
UID:stappen-shoppen.nl/entity/63cfbce966333184eb04330c
DTSTAMP:20260421T140748Z
ORGANIZER;CN=:MAILTO:
DTSTART:20260216T131100Z
DTEND:20260216T160000Z
URL:https://m.hetsmalstestukjenederland.nl/ical/63cfbce966333184eb04330c
SUMMARY:Grote optocht Illikhoven en Visserweert
DESCRIPTION:CV De Peerlinke
END:VEVENT
END:VCALENDAR

