BEGIN:VCALENDAR
VERSION:2.0
PRODID:www.stappen-shoppen.nl
BEGIN:VEVENT
UID:stappen-shoppen.nl/entity/63e4bb73d6ed49ca51082f82
DTSTAMP:20260421T135805Z
ORGANIZER;CN=:MAILTO:
DTSTART:20260214T141100Z
DTEND:20260214T150000Z
URL:https://m.hetsmalstestukjenederland.nl/ical/63e4bb73d6ed49ca51082f82
SUMMARY:Jeugdoptocht Koningsbosch
DESCRIPTION:CV de Papegaai
END:VEVENT
END:VCALENDAR

