BEGIN:VCALENDAR
VERSION:2.0
PRODID:www.stappen-shoppen.nl
BEGIN:VEVENT
UID:stappen-shoppen.nl/entity/67d156aedbe8a5d4e803dcc5
DTSTAMP:20260421T135806Z
ORGANIZER;CN=:MAILTO:
DTSTART:20250315T190000Z
DTEND:20250315T220000Z
URL:https://m.hetsmalstestukjenederland.nl/ical/67d156aedbe8a5d4e803dcc5
SUMMARY:Ierse avond
DESCRIPTION:Saint Patrick’s Party met live muziek
END:VEVENT
END:VCALENDAR

