BEGIN:VCALENDAR
VERSION:2.0
PRODID:www.stappen-shoppen.nl
BEGIN:VEVENT
UID:stappen-shoppen.nl/entity/67d15e481995b4dc370b2099
DTSTAMP:20260421T185546Z
ORGANIZER;CN=:MAILTO:
DTSTART:20260308T103000Z
DTEND:20260308T113000Z
URL:https://m.hetsmalstestukjenederland.nl/ical/67d15e481995b4dc370b2099
SUMMARY:Concert Kunstkring Echt
DESCRIPTION:Concert rond Van Gogh met klassiek trio
END:VEVENT
END:VCALENDAR

