BEGIN:VCALENDAR
VERSION:2.0
PRODID:www.stappen-shoppen.nl
BEGIN:VEVENT
UID:stappen-shoppen.nl/entity/67e3ae51269af9b8090b0cfb
DTSTAMP:20260421T153955Z
ORGANIZER;CN=:MAILTO:
DTSTART:20250405T180000Z
DTEND:20250405T210000Z
URL:https://m.hetsmalstestukjenederland.nl/ical/67e3ae51269af9b8090b0cfb
SUMMARY:Movies in concert
DESCRIPTION:Geniet live van de mooiste filmmuziek
END:VEVENT
END:VCALENDAR

