BEGIN:VCALENDAR
VERSION:2.0
PRODID:www.stappen-shoppen.nl
BEGIN:VEVENT
UID:stappen-shoppen.nl/entity/67eced6bdba40c56af0f6547
DTSTAMP:20260421T153914Z
ORGANIZER;CN=:MAILTO:
DTSTART:20250410T173000Z
DTEND:20250410T193000Z
URL:https://m.hetsmalstestukjenederland.nl/ical/67eced6bdba40c56af0f6547
SUMMARY:Vrouwen Trefpunt Maria Hoop
DESCRIPTION:Opfriscursus verkeersregels
END:VEVENT
END:VCALENDAR

