BEGIN:VCALENDAR
VERSION:2.0
PRODID:www.stappen-shoppen.nl
BEGIN:VEVENT
UID:stappen-shoppen.nl/entity/67f7b3c6f4a2b8154a066600
DTSTAMP:20260421T135804Z
ORGANIZER;CN=:MAILTO:
DTSTART:20260411T080000Z
DTEND:20260412T140000Z
URL:https://m.hetsmalstestukjenederland.nl/ical/67f7b3c6f4a2b8154a066600
SUMMARY:Boekenmarkt Koningsbosch
DESCRIPTION:Gezellig neuzen tussen het grote aanbod boeken
END:VEVENT
END:VCALENDAR

