BEGIN:VCALENDAR
VERSION:2.0
PRODID:www.stappen-shoppen.nl
BEGIN:VEVENT
UID:stappen-shoppen.nl/entity/681de89fc6eddf79090b6dbe
DTSTAMP:20260421T153848Z
ORGANIZER;CN=:MAILTO:
DTSTART:20250509T130000Z
DTEND:20250512T200000Z
URL:https://m.hetsmalstestukjenederland.nl/ical/681de89fc6eddf79090b6dbe
SUMMARY:Kermis Koningsbosch
DESCRIPTION:Er is van alles leuks te doen
END:VEVENT
END:VCALENDAR

