BEGIN:VCALENDAR
VERSION:2.0
PRODID:www.stappen-shoppen.nl
BEGIN:VEVENT
UID:stappen-shoppen.nl/entity/68244ee0fd4dd8198607ed3f
DTSTAMP:20260421T135816Z
ORGANIZER;CN=:MAILTO:
DTSTART:20250517T180000Z
DTEND:20250517T200000Z
URL:https://m.hetsmalstestukjenederland.nl/ical/68244ee0fd4dd8198607ed3f
SUMMARY:Concert Mannenkoren
DESCRIPTION:Mannenkoren treden op in Oos Heem Koningsbosch
END:VEVENT
END:VCALENDAR

