BEGIN:VCALENDAR
VERSION:2.0
PRODID:www.stappen-shoppen.nl
BEGIN:VEVENT
UID:stappen-shoppen.nl/entity/689d735f0a30c7da710ad4d6
DTSTAMP:20260421T153913Z
ORGANIZER;CN=:MAILTO:
DTSTART:20250823T100000Z
DTEND:20250823T160000Z
URL:https://m.hetsmalstestukjenederland.nl/ical/689d735f0a30c7da710ad4d6
SUMMARY:Open dag modelvliegclub De Vliegende Hollander
DESCRIPTION:Een hobby die je niet meer loslaat
END:VEVENT
END:VCALENDAR

