BEGIN:VCALENDAR
VERSION:2.0
PRODID:www.stappen-shoppen.nl
BEGIN:VEVENT
UID:stappen-shoppen.nl/entity/68b68e21a0eb504a9a0e7280
DTSTAMP:20260421T135803Z
ORGANIZER;CN=:MAILTO:info@jeanne-darc.nl
DTSTART:20251010T170000Z
DTEND:20251010T190000Z
URL:https://m.hetsmalstestukjenederland.nl/ical/68b68e21a0eb504a9a0e7280
SUMMARY:Halloweentocht Maria Hoop
DESCRIPTION:Scouting Jeanne d'Arc
END:VEVENT
END:VCALENDAR

