BEGIN:VCALENDAR
VERSION:2.0
PRODID:www.stappen-shoppen.nl
BEGIN:VEVENT
UID:stappen-shoppen.nl/entity/6901c761a882ede250075f95
DTSTAMP:20260421T122955Z
ORGANIZER;CN=:MAILTO:
DTSTART:20251108T180000Z
DTEND:20251029T225500Z
URL:https://m.hetsmalstestukjenederland.nl/ical/6901c761a882ede250075f95
SUMMARY:80’s & 90’s Party
DESCRIPTION:Knallend dansfeest in Koningsbosch
END:VEVENT
END:VCALENDAR

