BEGIN:VCALENDAR
VERSION:2.0
PRODID:www.stappen-shoppen.nl
BEGIN:VEVENT
UID:stappen-shoppen.nl/entity/690b1cec6edf5d6e690389ba
DTSTAMP:20260421T171949Z
ORGANIZER;CN=:MAILTO:
DTSTART:20251114T183300Z
DTEND:20251114T225500Z
URL:https://m.hetsmalstestukjenederland.nl/ical/690b1cec6edf5d6e690389ba
SUMMARY:Wie wordt de nieuwe Prins?
DESCRIPTION:Bekendmaking nieuwe Prins van CV de Papegaai
END:VEVENT
END:VCALENDAR

