BEGIN:VCALENDAR
VERSION:2.0
PRODID:www.stappen-shoppen.nl
BEGIN:VEVENT
UID:stappen-shoppen.nl/entity/690b1f73fd8132fadf099287
DTSTAMP:20260421T140839Z
ORGANIZER;CN=:MAILTO:
DTSTART:20251130T130000Z
DTEND:20251130T160000Z
URL:https://m.hetsmalstestukjenederland.nl/ical/690b1f73fd8132fadf099287
SUMMARY:Dorpsconcert Koningsbosch
DESCRIPTION:Muzikale middag met lokale verenigingen
END:VEVENT
END:VCALENDAR

