BEGIN:VCALENDAR
VERSION:2.0
PRODID:www.stappen-shoppen.nl
BEGIN:VEVENT
UID:stappen-shoppen.nl/entity/691d7d1caeda16071c0dce27
DTSTAMP:20260422T014001Z
ORGANIZER;CN=:MAILTO:
DTSTART:20251127T183000Z
DTEND:20251127T203000Z
URL:https://m.hetsmalstestukjenederland.nl/ical/691d7d1caeda16071c0dce27
SUMMARY:Zösters diktee
DESCRIPTION:Dialectavond over Vastelaovend met dictee en verrassing
END:VEVENT
END:VCALENDAR

