BEGIN:VCALENDAR
VERSION:2.0
PRODID:www.stappen-shoppen.nl
BEGIN:VEVENT
UID:stappen-shoppen.nl/entity/692830d0ee69e21fd70fcc95
DTSTAMP:20260421T185547Z
ORGANIZER;CN=:MAILTO:maria.gijzels@gmail.com
DTSTART:20251210T173000Z
DTEND:20251210T193000Z
URL:https://m.hetsmalstestukjenederland.nl/ical/692830d0ee69e21fd70fcc95
SUMMARY:Kerststallen 'Grenzeloos mooi'
DESCRIPTION:Lezing en kerststallententoonstelling in Susteren
END:VEVENT
END:VCALENDAR

