BEGIN:VCALENDAR
VERSION:2.0
PRODID:www.stappen-shoppen.nl
BEGIN:VEVENT
UID:stappen-shoppen.nl/entity/6930043c1eac0c6eaf047d8d
DTSTAMP:20260421T135803Z
ORGANIZER;CN=:MAILTO:
DTSTART:20251213T190000Z
DTEND:20251213T210000Z
URL:https://m.hetsmalstestukjenederland.nl/ical/6930043c1eac0c6eaf047d8d
SUMMARY:Kerstconcert 'Corde Et Animo'
DESCRIPTION:Kerstconcert met koor Corde et Animo en gastkoren
END:VEVENT
END:VCALENDAR

