BEGIN:VCALENDAR
VERSION:2.0
PRODID:www.stappen-shoppen.nl
BEGIN:VEVENT
UID:stappen-shoppen.nl/entity/693958fc43659745e4020cd5
DTSTAMP:20260421T140839Z
ORGANIZER;CN=:MAILTO:
DTSTART:20251220T190000Z
DTEND:20251220T210000Z
URL:https://m.hetsmalstestukjenederland.nl/ical/693958fc43659745e4020cd5
SUMMARY:Kerstshow Muziekcollectief De Maasoever
DESCRIPTION:Swingende kerstshow in Gemeenschapshuis Roosteren
END:VEVENT
END:VCALENDAR

