BEGIN:VCALENDAR
VERSION:2.0
PRODID:www.stappen-shoppen.nl
BEGIN:VEVENT
UID:stappen-shoppen.nl/entity/69427407baa177d5ad01857b
DTSTAMP:20260421T135815Z
ORGANIZER;CN=:MAILTO:
DTSTART:20251220T180000Z
DTEND:20251220T200000Z
URL:https://m.hetsmalstestukjenederland.nl/ical/69427407baa177d5ad01857b
SUMMARY:Lichtjes-concert
DESCRIPTION:Lichtjesconcert met kerstklanken en medley van Coldplay
END:VEVENT
END:VCALENDAR

