BEGIN:VCALENDAR
VERSION:2.0
PRODID:www.stappen-shoppen.nl
BEGIN:VEVENT
UID:stappen-shoppen.nl/entity/694288eacd875687a90718ed
DTSTAMP:20260421T153955Z
ORGANIZER;CN=:MAILTO:
DTSTART:20260102T180000Z
DTEND:20260102T000000Z
URL:https://m.hetsmalstestukjenederland.nl/ical/694288eacd875687a90718ed
SUMMARY:Nieuwjaars Family Party
DESCRIPTION:Gezellige nieuwjaarsavond voor jong en oud
END:VEVENT
END:VCALENDAR

