BEGIN:VCALENDAR
VERSION:2.0
PRODID:www.stappen-shoppen.nl
BEGIN:VEVENT
UID:stappen-shoppen.nl/entity/6960c4ce36c34ab8fd059992
DTSTAMP:20260421T135816Z
ORGANIZER;CN=:MAILTO:
DTSTART:20260109T085800Z
DTEND:20260115T235800Z
URL:https://m.hetsmalstestukjenederland.nl/ical/6960c4ce36c34ab8fd059992
SUMMARY:Buurtbieb de Bookgaard
DESCRIPTION:Gratis boeken en spellen lenen in Buurtbieb de Bookgaard
END:VEVENT
END:VCALENDAR

