BEGIN:VCALENDAR
VERSION:2.0
PRODID:www.stappen-shoppen.nl
BEGIN:VEVENT
UID:stappen-shoppen.nl/entity/6960c6733e0116273c0a4883
DTSTAMP:20260421T153956Z
ORGANIZER;CN=:MAILTO:
DTSTART:20260109T091200Z
DTEND:20260109T110000Z
URL:https://m.hetsmalstestukjenederland.nl/ical/6960c6733e0116273c0a4883
SUMMARY:Nieuwjaarsconcert Fanfare Eendracht Dieteren
DESCRIPTION:Feestelijk nieuwjaarsconcert van Fanfare Eendracht
END:VEVENT
END:VCALENDAR

