BEGIN:VCALENDAR
VERSION:2.0
PRODID:www.stappen-shoppen.nl
BEGIN:VEVENT
UID:stappen-shoppen.nl/entity/6979dcf12301b5c8010e6aee
DTSTAMP:20260421T110919Z
ORGANIZER;CN=:MAILTO:
DTSTART:20260523T100000Z
DTEND:20260523T215900Z
URL:https://m.hetsmalstestukjenederland.nl/ical/6979dcf12301b5c8010e6aee
SUMMARY:80 Jaar v.v. Susterse Boys
DESCRIPTION:Reden voor een groot feest
END:VEVENT
END:VCALENDAR

