BEGIN:VCALENDAR
VERSION:2.0
PRODID:www.stappen-shoppen.nl
BEGIN:VEVENT
UID:stappen-shoppen.nl/entity/69a7fb4a2d3b8b26c20dd1af
DTSTAMP:20260424T153808Z
ORGANIZER;CN=:MAILTO:
DTSTART:20260328T190000Z
DTEND:20260328T220000Z
URL:https://m.hetsmalstestukjenederland.nl/ical/69a7fb4a2d3b8b26c20dd1af
SUMMARY:Voorjaarsconcert Vriendenkoor Echt met Jenske Wijshoff
DESCRIPTION:In Theater Royal
END:VEVENT
END:VCALENDAR

