BEGIN:VCALENDAR
VERSION:2.0
PRODID:www.stappen-shoppen.nl
BEGIN:VEVENT
UID:stappen-shoppen.nl/entity/69b130ea7796a86df10db5a6
DTSTAMP:20260421T153747Z
ORGANIZER;CN=:MAILTO:
DTSTART:20260314T190000Z
DTEND:20260314T220000Z
URL:https://m.hetsmalstestukjenederland.nl/ical/69b130ea7796a86df10db5a6
SUMMARY:St. Patrick's Party
DESCRIPTION:Ierse feestavond met live muziek in De Koppel
END:VEVENT
END:VCALENDAR

