BEGIN:VCALENDAR
VERSION:2.0
PRODID:www.stappen-shoppen.nl
BEGIN:VEVENT
UID:stappen-shoppen.nl/entity/69c4f3541e6773dcf40aa287
DTSTAMP:20260421T222136Z
ORGANIZER;CN=:MAILTO:
DTSTART:20260329T080000Z
DTEND:20260329T110000Z
URL:https://m.hetsmalstestukjenederland.nl/ical/69c4f3541e6773dcf40aa287
SUMMARY:Frühschoppen in buurthuis St. Joris
DESCRIPTION:Wekelijkse open inloop met spellen en koffie
END:VEVENT
END:VCALENDAR

