BEGIN:VCALENDAR
VERSION:2.0
PRODID:www.stappen-shoppen.nl
BEGIN:VEVENT
UID:stappen-shoppen.nl/entity/69d75408fe178bff8906993b
DTSTAMP:20260421T171835Z
ORGANIZER;CN=:MAILTO:
DTSTART:20260412T073000Z
DTEND:20260412T100000Z
URL:https://m.hetsmalstestukjenederland.nl/ical/69d75408fe178bff8906993b
SUMMARY:Voorjaarswandeling 'de Rug' door IVN Born
DESCRIPTION:Door natuurgebied de Rug in Roosteren
END:VEVENT
END:VCALENDAR

